BEGIN:VCALENDAR
VERSION:2.0
PRODID:-//COPE Health Scholars - ECPv6.15.13//NONSGML v1.0//EN
CALSCALE:GREGORIAN
METHOD:PUBLISH
X-WR-CALNAME:COPE Health Scholars
X-ORIGINAL-URL:https://staging.copehealthscholars.org
X-WR-CALDESC:Events for COPE Health Scholars
REFRESH-INTERVAL;VALUE=DURATION:PT1H
X-Robots-Tag:noindex
X-PUBLISHED-TTL:PT1H
BEGIN:VTIMEZONE
TZID:America/Los_Angeles
BEGIN:DAYLIGHT
TZOFFSETFROM:-0800
TZOFFSETTO:-0700
TZNAME:PDT
DTSTART:20240310T100000
END:DAYLIGHT
BEGIN:STANDARD
TZOFFSETFROM:-0700
TZOFFSETTO:-0800
TZNAME:PST
DTSTART:20241103T090000
END:STANDARD
BEGIN:DAYLIGHT
TZOFFSETFROM:-0800
TZOFFSETTO:-0700
TZNAME:PDT
DTSTART:20250309T100000
END:DAYLIGHT
BEGIN:STANDARD
TZOFFSETFROM:-0700
TZOFFSETTO:-0800
TZNAME:PST
DTSTART:20251102T090000
END:STANDARD
BEGIN:DAYLIGHT
TZOFFSETFROM:-0800
TZOFFSETTO:-0700
TZNAME:PDT
DTSTART:20260308T100000
END:DAYLIGHT
BEGIN:STANDARD
TZOFFSETFROM:-0700
TZOFFSETTO:-0800
TZNAME:PST
DTSTART:20261101T090000
END:STANDARD
END:VTIMEZONE
BEGIN:VEVENT
DTSTART;TZID=America/Los_Angeles:20250724T200000
DTEND;TZID=America/Los_Angeles:20250724T213000
DTSTAMP:20260421T083604
CREATED:20250513T194148Z
LAST-MODIFIED:20250513T194148Z
UID:10000015-1753387200-1753392600@staging.copehealthscholars.org
SUMMARY:Personal Statement Writing Workshop
DESCRIPTION:A well-written personal statement can make all the difference in your application—whether it’s for a university program\, a job\, or a scholarship. Join us for this hands-on workshop where you’ll learn how to effectively communicate your strengths\, passions\, and aspirations through a powerful personal statement that captures the attention of admissions committees or hiring managers. \nWhat you’ll learn: \n\nHow to structure and organize your personal statement for maximum impact\nTechniques for showcasing your strengths\, skills\, and experiences in a genuine way\nTips for aligning your statement with the values and goals of the institution or organization you’re applying to\nHow to incorporate your Health Scholar experience in a compelling story that sets you apart from other candidates\nCommon pitfalls to avoid and ways to ensure your writing is clear and concise\nThe importance of authenticity\, reflection\, and self-awareness in your statement\n\nWho should attend:\nStudents applying to professional programs\, graduate schools\, scholarships\, or job applicants looking to strengthen their personal statements and improve their chances of success. \nBring:\nYour draft personal statement (if you have one) or any ideas you want to incorporate. There will be time for feedback\, revisions\, and individual guidance during the workshop.
URL:https://staging.copehealthscholars.org/event/personal-statement-writing-workshop-2/
LOCATION:Dignity Health – St. John’s Regional Medical Center\, 1600 N Rose Ave\, Oxnard\, CA\, 93030
ATTACH;FMTTYPE=image/jpeg:https://staging.copehealthscholars.org/wp-content/uploads/2025/05/iStock-2149488224.jpg
END:VEVENT
END:VCALENDAR