BEGIN:VCALENDAR
VERSION:2.0
PRODID:-//COPE Health Scholars - ECPv6.15.13//NONSGML v1.0//EN
CALSCALE:GREGORIAN
METHOD:PUBLISH
X-WR-CALNAME:COPE Health Scholars
X-ORIGINAL-URL:https://staging.copehealthscholars.org
X-WR-CALDESC:Events for COPE Health Scholars
REFRESH-INTERVAL;VALUE=DURATION:PT1H
X-Robots-Tag:noindex
X-PUBLISHED-TTL:PT1H
BEGIN:VTIMEZONE
TZID:America/Los_Angeles
BEGIN:DAYLIGHT
TZOFFSETFROM:-0800
TZOFFSETTO:-0700
TZNAME:PDT
DTSTART:20240310T100000
END:DAYLIGHT
BEGIN:STANDARD
TZOFFSETFROM:-0700
TZOFFSETTO:-0800
TZNAME:PST
DTSTART:20241103T090000
END:STANDARD
BEGIN:DAYLIGHT
TZOFFSETFROM:-0800
TZOFFSETTO:-0700
TZNAME:PDT
DTSTART:20250309T100000
END:DAYLIGHT
BEGIN:STANDARD
TZOFFSETFROM:-0700
TZOFFSETTO:-0800
TZNAME:PST
DTSTART:20251102T090000
END:STANDARD
BEGIN:DAYLIGHT
TZOFFSETFROM:-0800
TZOFFSETTO:-0700
TZNAME:PDT
DTSTART:20260308T100000
END:DAYLIGHT
BEGIN:STANDARD
TZOFFSETFROM:-0700
TZOFFSETTO:-0800
TZNAME:PST
DTSTART:20261101T090000
END:STANDARD
END:VTIMEZONE
BEGIN:VEVENT
DTSTART;TZID=America/Los_Angeles:20250726T180000
DTEND;TZID=America/Los_Angeles:20250726T193000
DTSTAMP:20260421T083957
CREATED:20250513T194331Z
LAST-MODIFIED:20250513T194331Z
UID:10000016-1753552800-1753558200@staging.copehealthscholars.org
SUMMARY:Interviewing Prep/MMI
DESCRIPTION:Prepare to shine in your next job interview or admissions interview with our comprehensive workshop. Whether you’re gearing up for a traditional interview or preparing for a Multiple Mini Interview (MMI)\, this hands-on session will equip you with the tools and techniques to tackle any interview format with confidence and poise. \nWhat you’ll learn: \n\nProven strategies for answering common interview questions and behavioral questions\nTechniques for delivering clear\, concise\, and impactful responses\nWhat to expect in MMIs and how to excel in each station (communication\, problem-solving\, and ethical dilemmas)\nHow to handle high-pressure questions and demonstrate critical thinking on the spot\nTips for body language\, tone\, and projecting confidence\nHow to research companies or programs effectively and tailor your answers\nPost-interview etiquette and follow-up strategies\n\nWho should attend:\nJob seekers\, students preparing for medical or graduate school interviews (MMIs)\, and professionals looking to refresh or improve their interview skills. \nBring:\nAny interview questions or scenarios you’re currently preparing for. We’ll do live mock interviews and feedback sessions\, so be ready to practice!
URL:https://staging.copehealthscholars.org/event/interviewing-prep-mmi-2/
LOCATION:Adventist Health Bakersfield\, 2615 Chester Ave\, Bakersfield\, CA\, 93301
ATTACH;FMTTYPE=image/jpeg:https://staging.copehealthscholars.org/wp-content/uploads/2025/05/iStock-2032308703.jpg
END:VEVENT
END:VCALENDAR